BEGIN:VCALENDAR
VERSION:2.0
PRODID:-//wp-events-plugin.com//7.2.3.1//EN
TZID:America/Toronto
X-WR-TIMEZONE:America/Toronto
BEGIN:VEVENT
UID:119@natureguelph.ca
DTSTART;TZID=America/Toronto:20260427T070000
DTEND;TZID=America/Toronto:20260427T090000
DTSTAMP:20260415T012734Z
URL:https://natureguelph.ca/events/spring-bird-walk-city-nature-challenge/
SUMMARY:Spring Bird Walk: City Nature Challenge Guelph
DESCRIPTION:Join Nature Guelph Bird Wing in partnership with the Ignatius J
 esuit Centre for an early morning spring bird walk as part of Guelph's Cit
 y Nature Challenge. This walk will feature spring migrants\; logging their
  presence and their habitat into iNaturalist.\nEvent is currently at capac
 ity. Please feel free to join the waiting list and we will let you know if
  spaces open up allowing you to join us. https://forms.gle/vREKsD53PgwLpH
 V47\nFor the first time\, Guelph is taking part in the City Nature Challen
 ge\, a worldwide community-based citizen science project. Local residents 
 are asked to make observations in their neighbourhoods and green spaces an
 d share those observations on iNaturalist during the four-day period. Clic
 k here to learn more about the City Nature Challenge. \nImportant details
  for this outing:\n- This event is family-friendly.\n- This event is NOT d
 og-friendly.\n- Dress for the weather.\n- Bring your binoculars and spotti
 ng scopes if you have them. If you need some binoculars\, Guelph Public L
 ibrary has binoculars that can be borrowed.\n- Consider downloading and l
 earning to use iNaturalist before attending.\nEmail birdwing@natureguelph.
 ca if you have any event-related questions. Please do not request assista
 nce with registration through our social media accounts.
ATTACH;FMTTYPE=image/jpeg:https://natureguelph.ca/wp-content/uploads/2026/
 03/Guelph-CNC-2026.bmp
LOCATION:Ignatius Jesuit Centre\, 5420 Highway 6 North\, Guelph\, ON\, Cana
 da
GEO:43.569882;-80.283743
X-APPLE-STRUCTURED-LOCATION;VALUE=URI;X-ADDRESS=5420 Highway 6 North\, Guel
 ph\, ON\, Canada;X-APPLE-RADIUS=100;X-TITLE=Ignatius Jesuit Centre:geo:43.
 569882,-80.283743
END:VEVENT
BEGIN:VTIMEZONE
TZID:America/Toronto
X-LIC-LOCATION:America/Toronto
BEGIN:DAYLIGHT
DTSTART:20260308T030000
TZOFFSETFROM:-0500
TZOFFSETTO:-0400
TZNAME:EDT
END:DAYLIGHT
END:VTIMEZONE
END:VCALENDAR