BEGIN:VCALENDAR
VERSION:2.0
PRODID:-//wp-events-plugin.com//7.2.3.1//EN
TZID:America/Toronto
X-WR-TIMEZONE:America/Toronto
BEGIN:VEVENT
UID:60@natureguelph.ca
DTSTART:20240917T193000Z
DTEND:20240917T210000Z
DTSTAMP:20240903T092842Z
URL:https://natureguelph.ca/events/nifty-native-plants-for-the-garden/
SUMMARY:Nifty Native Plants for the Garden
DESCRIPTION:Sean James\, Master Gardener\, Writer\, Teacher\n–\nGoing nat
 ive does not mean a sacrifice in beauty. Sean will discuss great\, and oft
 en overlooked native species that deserve a home in our gardens. Sean will
  also address the biodiversity these species support and their benefits to
  birds and pollinators. Location suitability will be dealt with\, includin
 g addressing difficult soils and situations.\n\nA graduate of Niagara Park
 s School of Horticulture\, a Master Gardener\, writer\, and teacher\, Sean
  James focuses on eco-gardening techniques. He has spoken at events from t
 he Maritimes to Seattle and landscaped from Switzerland to California. Sea
 n had the honour of being part of creating the new Ontario Landscape Tree 
 Planting Guide\, the Grow-Me-Instead guide\, the Ontario Horticultural App
 renticeship Curriculum\, the national Red Seal Occupational Standard\, and
  the Master Gardeners Reference Manual. He has chaired the Environmental S
 tewardship Committee for Landscape Ontario and the Environmental Committee
  for the Perennial Plant Association and been featured on radio and televi
 sion\, including filling in for Paul Zammit occasionally on CBC’s The Ga
 rdening Show.
ATTACH;FMTTYPE=image/jpeg:https://natureguelph.ca/wp-content/uploads/2024/
 09/456377367_918868963601996_827983762613771752_n-1.jpg
LOCATION:Water Street Church\, 287 Water Street (Lower Level)\, Guelph\, On
 tario\, Canada
GEO:43.530262;-80.254348
X-APPLE-STRUCTURED-LOCATION;VALUE=URI;X-ADDRESS=287 Water Street (Lower Lev
 el)\, Guelph\, Ontario\, Canada;X-APPLE-RADIUS=100;X-TITLE=Water Street Ch
 urch:geo:43.530262,-80.254348
END:VEVENT
END:VCALENDAR