BEGIN:VCALENDAR
VERSION:2.0
PRODID:-//wp-events-plugin.com//7.2.3.1//EN
TZID:America/Toronto
X-WR-TIMEZONE:America/Toronto
BEGIN:VEVENT
UID:56@natureguelph.ca
DTSTART:20250410T193000Z
DTEND:20250410T210000Z
DTSTAMP:20250406T134058Z
URL:https://natureguelph.ca/events/habitat-based-influences-on-farm-arthro
 pods/
SUMMARY:Habitat-Based Influences on Farm Arthropods
DESCRIPTION:Aleksandra Dolezal\, Ecologist\n\n\n–\nDoes habitat rehabilit
 ation on marginal farmlands that are unsuitable for crops provide for bett
 er numbers and diversity? Do arthropods respond to artificially constructe
 d habitat?\n\nAleksandra is an ecologist with experience in habitat restor
 ation\, environmental analysis\, insect taxonomy and genomics. She receive
 d her Honour's Bachelor of Science degree at the University of Toronto in 
 Life Sciences\, with a specialist in Ecology and Evolutionary Biology and 
 a minor in Environmental Biology. She received her Master's in the Departm
 ent of Integrative Biology at the University of Guelph and is currently co
 mpleting a Doctoral degree at the University of Guelph.\n&nbsp\;
ATTACH;FMTTYPE=image/jpeg:https://natureguelph.ca/wp-content/uploads/2024/
 08/462881189_954409100047982_5941957925273430536_n.jpg
LOCATION:The Arboretum Centre\, University of Guelph\, 200 Arboretum Rd.\, 
 Guelph\, Ontario\, N1G 2W1\, Canada
GEO:43.539914;-80.216794
X-APPLE-STRUCTURED-LOCATION;VALUE=URI;X-ADDRESS=200 Arboretum Rd.\, Guelph\
 , Ontario\, N1G 2W1\, Canada;X-APPLE-RADIUS=100;X-TITLE=The Arboretum Cent
 re\, University of Guelph:geo:43.539914,-80.216794
END:VEVENT
END:VCALENDAR